BEGIN:VCALENDAR
VERSION:2.0
PRODID:-//GFWC Woman&#039;s Club of Vista - ECPv6.15.12.2//NONSGML v1.0//EN
CALSCALE:GREGORIAN
METHOD:PUBLISH
X-WR-CALNAME:GFWC Woman&#039;s Club of Vista
X-ORIGINAL-URL:https://thewomansclubofvista.org
X-WR-CALDESC:Events for GFWC Woman&#039;s Club of Vista
REFRESH-INTERVAL;VALUE=DURATION:PT1H
X-Robots-Tag:noindex
X-PUBLISHED-TTL:PT1H
BEGIN:VTIMEZONE
TZID:America/Los_Angeles
BEGIN:DAYLIGHT
TZOFFSETFROM:-0800
TZOFFSETTO:-0700
TZNAME:PDT
DTSTART:20250309T100000
END:DAYLIGHT
BEGIN:STANDARD
TZOFFSETFROM:-0700
TZOFFSETTO:-0800
TZNAME:PST
DTSTART:20251102T090000
END:STANDARD
BEGIN:DAYLIGHT
TZOFFSETFROM:-0800
TZOFFSETTO:-0700
TZNAME:PDT
DTSTART:20260308T100000
END:DAYLIGHT
BEGIN:STANDARD
TZOFFSETFROM:-0700
TZOFFSETTO:-0800
TZNAME:PST
DTSTART:20261101T090000
END:STANDARD
BEGIN:DAYLIGHT
TZOFFSETFROM:-0800
TZOFFSETTO:-0700
TZNAME:PDT
DTSTART:20270314T100000
END:DAYLIGHT
BEGIN:STANDARD
TZOFFSETFROM:-0700
TZOFFSETTO:-0800
TZNAME:PST
DTSTART:20271107T090000
END:STANDARD
END:VTIMEZONE
BEGIN:VEVENT
DTSTART;TZID=America/Los_Angeles:20260424T090000
DTEND;TZID=America/Los_Angeles:20260424T110000
DTSTAMP:20260424T014606
CREATED:20260307T202249Z
LAST-MODIFIED:20260308T191815Z
UID:4995-1777021200-1777028400@thewomansclubofvista.org
SUMMARY:North County Food Bank - April 2026
DESCRIPTION:SAVE THE DATE – North County Food Bank – April 24th from 9am to 11am. \nWe need 12 volunteers! RSVP LizF@thewomansclubofvista.org
URL:https://thewomansclubofvista.org/event/north-county-food-bank-april-2026/
LOCATION:New North County Food Bank\, 2260 Oak Ridge Way\, Vista\, CA\, 92081\, United States
CATEGORIES:Nonprofit Friends,Philanthropic
END:VEVENT
END:VCALENDAR