BEGIN:VCALENDAR
VERSION:2.0
PRODID:-//GFWC Woman&#039;s Club of Vista - ECPv6.15.12.2//NONSGML v1.0//EN
CALSCALE:GREGORIAN
METHOD:PUBLISH
X-WR-CALNAME:GFWC Woman&#039;s Club of Vista
X-ORIGINAL-URL:https://thewomansclubofvista.org
X-WR-CALDESC:Events for GFWC Woman&#039;s Club of Vista
REFRESH-INTERVAL;VALUE=DURATION:PT1H
X-Robots-Tag:noindex
X-PUBLISHED-TTL:PT1H
BEGIN:VTIMEZONE
TZID:America/Los_Angeles
BEGIN:DAYLIGHT
TZOFFSETFROM:-0800
TZOFFSETTO:-0700
TZNAME:PDT
DTSTART:20250309T100000
END:DAYLIGHT
BEGIN:STANDARD
TZOFFSETFROM:-0700
TZOFFSETTO:-0800
TZNAME:PST
DTSTART:20251102T090000
END:STANDARD
BEGIN:DAYLIGHT
TZOFFSETFROM:-0800
TZOFFSETTO:-0700
TZNAME:PDT
DTSTART:20260308T100000
END:DAYLIGHT
BEGIN:STANDARD
TZOFFSETFROM:-0700
TZOFFSETTO:-0800
TZNAME:PST
DTSTART:20261101T090000
END:STANDARD
BEGIN:DAYLIGHT
TZOFFSETFROM:-0800
TZOFFSETTO:-0700
TZNAME:PDT
DTSTART:20270314T100000
END:DAYLIGHT
BEGIN:STANDARD
TZOFFSETFROM:-0700
TZOFFSETTO:-0800
TZNAME:PST
DTSTART:20271107T090000
END:STANDARD
END:VTIMEZONE
BEGIN:VEVENT
DTSTART;TZID=America/Los_Angeles:20260418T100000
DTEND;TZID=America/Los_Angeles:20260418T150000
DTSTAMP:20260420T013155
CREATED:20260330T194125Z
LAST-MODIFIED:20260330T194131Z
UID:5110-1776506400-1776524400@thewomansclubofvista.org
SUMMARY:Earth Day at Alta Vista Botanical Gardens
DESCRIPTION:We need 6 volunteers to staff our Membership Table at the Botanical Gardens for three 2 hour shifts. Will you be the friendly face of the Woman’s Club of Vista? Please volunteer! RSVP: Donna DiMambro donnad@thewomansclubofvista.org
URL:https://thewomansclubofvista.org/event/earth-day-at-alta-vista-botanical-gardens/
LOCATION:Alta Vista Botanical Gardens\, 1270 Vale Terrace Drive\, Vista\, CA\, 92084\, United States
CATEGORIES:Nonprofit Friends
END:VEVENT
END:VCALENDAR